BEGIN:VCALENDAR
VERSION:2.0
PRODID:-//skambantierdve.lt - ECPv6.13.2.1//NONSGML v1.0//EN
CALSCALE:GREGORIAN
METHOD:PUBLISH
X-WR-CALNAME:skambantierdve.lt
X-ORIGINAL-URL:https://skambantierdve.lt/en
X-WR-CALDESC:Events for skambantierdve.lt
REFRESH-INTERVAL;VALUE=DURATION:PT1H
X-Robots-Tag:noindex
X-PUBLISHED-TTL:PT1H
BEGIN:VTIMEZONE
TZID:UTC
BEGIN:STANDARD
TZOFFSETFROM:+0000
TZOFFSETTO:+0000
TZNAME:UTC
DTSTART:20260101T000000
END:STANDARD
END:VTIMEZONE
BEGIN:VEVENT
DTSTART;TZID=UTC:20260807T150000
DTEND;TZID=UTC:20260809T150000
DTSTAMP:20260422T085405
CREATED:20260421T175127Z
LAST-MODIFIED:20260422T070944Z
UID:1230-1786114800-1786287600@skambantierdve.lt
SUMMARY:Einančios širdies keliu - savaitgalis moterims
DESCRIPTION:Yra akimirkų\, kai gyvenimas tyliai pakviečia sustoti. Kai širdis ima kalbėti garsiau nei protas. \nKai jauti – atėjo metas nebe laukti\, o eiti savo keliu. Širdies keliu… \n  \nJei jauti\, kad nori daugiau tikrumo\, daugiau lengvumo\, daugiau savęs – turime tau kvietimą iš širdies į širdį \nRugpjūčio 7–9 dienomis\, ypatingu\, galingu virsmo laiku\, susitiksime ten\, kur gamta apkabina\, kur tyluma gydo\, kur galima nusimesti visus „reikia“ ir pagaliau išgirsti „noriu“. \nTai bus savaitgalis\, kuriame nereikės nieko įrodinėti\, nereikės būti „tobula“. \nPakaks būti tikra. \nTai erdvė\, kurioje: \n– gali paleisti tai\, kas jau agyveno. \n– gali prisiliesti prie savo vidinės stiprybės. \n– gali prisiminti\, kas esi iš tikrųjų\, kur tavo šaknys. \n– gali kurti savo naują realybę\, kurioje tiek daug tikrumo ir vertės… \nTai laikas\, kai Visata pati palaiko pokytį. \nKai atsiveria vartai naujai realybei – lengvesnei\, gausesnei\, kupinai pasitikėjimo ir drąsos būti matoma. \n„Einančios širdies keliu“ susibūrimas – tai ne apie tai\, ką darysime. \nTai apie tai\, kuo tapsi. \nJei skaitydama jauti tylų „taip“ viduje – \ntai jau yra ženklas! Šis susitikimas skirtas moterims\, kurios jaučia…Toms\, kurios pasiruošusios esminiams pokyčiams savo gyvenime ir nori eiti savo širdies keliu. Jei tai apie tave\, esi labai laukiama \nĮ PATIRTĮ JUS LYDĖS: \n🧡Sonata Paškevičienė – skambanti moteris\, vedanti į gilesnį susitikimą su savimi. \nGarso terapijos ir aromaterapijos praktikė\, „Feelings praktikos“ mentorė ir studijos „Skambanti erdvė“ įkūrėja. \nJos vedamos praktikos – tai patirtis\, kurioje garsas\, kvapas ir judesys susilieja į vieną – švelnų\, bet giliai veikiantį procesą. \nTai erdvė\, kurioje galima:\n– paleisti susikaupusią įtampą\n– sustoti nuo išorinio triukšmo\n– vėl išgirsti save \nSonata lydi moteris ne per teoriją\, o per patyrimą – ten\, kur atsiranda tikras pokytis. \n🧡Viktorija Olechė – sertifikuota neuroedukatorė\, lydinti moteris ir mamas po gimdymo į švelnų sugrįžimą į save. \nJos kuriamos erdvės kviečia sustoti ir išgirsti tai\, kas dažnai lieka nutylėta – nuovargį\, jautrumą\, vidinius išgyvenimus. \nPer nervų sistemos pažinimą\, kvėpavimą\, kūno pajautimą\, piešimą ir rašymą ji padeda moterims saugiai išjausti ir paleisti užstrigusias emocijas. \nTai švelnus\, bet gilus procesas\, kuriame atsiranda daugiau ramybės\, aiškumo ir vidinio stabilumo. \n🧡Gita Ramana – balanso mentorė\, daugiau nei 20 metų dirbanti su žmogaus vidiniais resursais. Stovykloje ji kurs tai\, kas tyliai\, bet labai stipriai palaiko visą patirtį – maistą. Jos gaminamas maistas – tai ne tik skonis\, bet ir rūpestis\, dėmesys bei energija\, kuri padeda kūnui išbūti pokytyje. \nGita intuityviai derina patiekalus prie stovyklos ritmo ir vykstančių procesų\, kad moterys galėtų jaustis lengviau\, stabiliau ir giliau susijungusios su savimi. Todėl nesuklysiu sakydama\, kad Gita-tikra „Skrandžio fėja“. \nSUSITINKAME: \n📅 rugpjūčio 7 – 9 d.\nDvasinių seminarų ir stovyklų centras  „Laumių namai” (30km. nuo Vilniaus).\nBeržininkų kaimas 1\, 15032\nhttps://maps.app.goo.gl/ozZsVP2BTMJFqh2Z8 \n🕔 Atvykstame: 08. 07 d. 15 val.\nIšvykstame: 08. 09 d. 15 val. \n💸INVESTICIJA Į SAVE:\n💫Toms\, kurios suskubs registruotis ir padarys avansinį mokėjimą iki birželio 1 d. dovanojame – „Ankstyvo paukščio ” kainą!  TIK 250 Eur.😍\nGrupėje tik 18 dalyvių ir vietos gan greitai tirpsta\, tad jei jauti širdimi ir esi pasiruošusi pokyčiui registruokis jau dabar🤗 \nKĄ TU GAUNI:\n🌿Nuoširdžią moterišką bendrystę.\n🌿Laiką nuostabios gamtos apsupty.\n🌿Apgyvendinimą su visais patogumais.\n🌿Pilną maitinimą.\n🌿Gilias ir transformuojančias praktikas.\n🌿Išskirtinį dėmesį ir rūpestį.\n🌿Ypatingą dovaną nuo organizatorių!\nNorint užsiregistruoti į renginį prašome užpildyti registracijos formą ir atlikti 100 Eur. avansinį mokėjimą. \nLikusi suma mokama grynais atvykus į renginį.\n💫Nuo birželio 1 d. mainai 333 Eur. \n REGISTRACIJA IR KITA SVARBI INFORMACIJA: \n\n\n👉https://forms.gle/frsTS2fqz4Wfg7Pc7 \n 
URL:https://skambantierdve.lt/en/renginys/einancios-sirdies-keliu-savaitgalis-moterims/
LOCATION:Private: Laumių namai\, Beržininkų kaimas 1\, 15032\, Vilnius\, Lithuania
ATTACH;FMTTYPE=image/jpeg:https://skambantierdve.lt/wp-content/uploads/2026/04/Patyriminis_savaitgalis_moterims.jpg
ORGANIZER;CN="Skambanti erdv%C4%97":MAILTO:skambantierdve@gmail.com
END:VEVENT
END:VCALENDAR